BEGIN:VCALENDAR
VERSION:2.0
PRODID:-//Plone.org//NONSGML plone.app.event//EN
X-WR-TIMEZONE:America/Detroit
BEGIN:VEVENT
SUMMARY:Coding Club
DTSTART;TZID=America/Detroit:20260408T140000
DTEND;TZID=America/Detroit:20260408T150000
DTSTAMP:20260423T073139Z
UID:a3aa664e13b94d63aa8039c2e04d3f0c@saas_stack_varnish:6080
CONTACT:Molly McBride\, 517-646-0633\, outreach@dhlibrarymi.org
CREATED:20260407T150204Z
LAST-MODIFIED:20260407T151343Z
LOCATION:Dorothy Hull Library
URL:https://windsor-township.ploud.net/news-events/events/coding-club-2
END:VEVENT
BEGIN:VTIMEZONE
TZID:America/Detroit
X-LIC-LOCATION:America/Detroit
BEGIN:DAYLIGHT
DTSTART:20260308T030000
TZNAME:EDT
TZOFFSETFROM:-0500
TZOFFSETTO:-0400
END:DAYLIGHT
END:VTIMEZONE
END:VCALENDAR
