BEGIN:VCALENDAR
VERSION:2.0
PRODID:-//Plone.org//NONSGML plone.app.event//EN
X-WR-TIMEZONE:America/Detroit
BEGIN:VEVENT
SUMMARY:Once Upon a Village
DTSTART;TZID=America/Detroit:20260429T180000
DTEND;TZID=America/Detroit:20260429T190000
DTSTAMP:20260423T073745Z
UID:0fcb4f2396c144a7a4d8195832ca38ce@saas_stack_varnish:6080
CONTACT:Molly McBride\, 517-646-0633\, outreach@dhlibrarymi.org
CREATED:20260220T151916Z
LAST-MODIFIED:20260407T145954Z
LOCATION:Dorothy Hull Library
URL:https://windsor-township.ploud.net/news-events/events/once-upon-a-vill
 age
END:VEVENT
BEGIN:VTIMEZONE
TZID:America/Detroit
X-LIC-LOCATION:America/Detroit
BEGIN:DAYLIGHT
DTSTART:20260308T030000
TZNAME:EDT
TZOFFSETFROM:-0500
TZOFFSETTO:-0400
END:DAYLIGHT
END:VTIMEZONE
END:VCALENDAR
